BEGIN:VCALENDAR
VERSION:2.0
PRODID:-//Lambertus Concerten - ECPv6.15.12.2//NONSGML v1.0//EN
CALSCALE:GREGORIAN
METHOD:PUBLISH
X-WR-CALNAME:Lambertus Concerten
X-ORIGINAL-URL:https://lambertusconcerten.nl
X-WR-CALDESC:Evenementen voor Lambertus Concerten
REFRESH-INTERVAL;VALUE=DURATION:PT1H
X-Robots-Tag:noindex
X-PUBLISHED-TTL:PT1H
BEGIN:VTIMEZONE
TZID:Europe/Amsterdam
BEGIN:DAYLIGHT
TZOFFSETFROM:+0100
TZOFFSETTO:+0200
TZNAME:CEST
DTSTART:20220327T010000
END:DAYLIGHT
BEGIN:STANDARD
TZOFFSETFROM:+0200
TZOFFSETTO:+0100
TZNAME:CET
DTSTART:20221030T010000
END:STANDARD
BEGIN:DAYLIGHT
TZOFFSETFROM:+0100
TZOFFSETTO:+0200
TZNAME:CEST
DTSTART:20230326T010000
END:DAYLIGHT
BEGIN:STANDARD
TZOFFSETFROM:+0200
TZOFFSETTO:+0100
TZNAME:CET
DTSTART:20231029T010000
END:STANDARD
BEGIN:DAYLIGHT
TZOFFSETFROM:+0100
TZOFFSETTO:+0200
TZNAME:CEST
DTSTART:20240331T010000
END:DAYLIGHT
BEGIN:STANDARD
TZOFFSETFROM:+0200
TZOFFSETTO:+0100
TZNAME:CET
DTSTART:20241027T010000
END:STANDARD
BEGIN:DAYLIGHT
TZOFFSETFROM:+0100
TZOFFSETTO:+0200
TZNAME:CEST
DTSTART:20250330T010000
END:DAYLIGHT
BEGIN:STANDARD
TZOFFSETFROM:+0200
TZOFFSETTO:+0100
TZNAME:CET
DTSTART:20251026T010000
END:STANDARD
END:VTIMEZONE
BEGIN:VEVENT
DTSTART;TZID=Europe/Amsterdam:20241208T150000
DTEND;TZID=Europe/Amsterdam:20241208T160000
DTSTAMP:20260420T103647
CREATED:20240629T220049Z
LAST-MODIFIED:20240702T113455Z
UID:10000037-1733670000-1733673600@lambertusconcerten.nl
SUMMARY:Paul Chatrou 65 jaar - Tribute
DESCRIPTION:De internationaal gevierde Helmondse componist Paul Chatrou wordt 65 jaar. Genoeg reden voor een concert met een selectie van zijn mooiste werken uitgevoerd door bevriende musici. \nPaul Chatrou (1959)\, geboren te Swalmen (L)\, wonende te Helmond (N-Br.) in Nederland\, kreeg zijn eerste pianolessen aan de muziekschool aldaar. \nVanaf het moment dat hij les had\, schreef hij zijn eigen muziek. Paul studeerde achtereenvolgens hoofdvak piano en schoolmuziek aan het Utrechts conservatorium\, waar hij o.a. les kreeg van Herman Beeftink. Hij volgde compositielessen bij Dr. Mathieu Dijker. \nNa zijn studie speelde Paul in diverse ensembles\, waarvoor hij tevens de muziek schreef.  Zo componeerde hij werken voor o.a. piano\, dwarsfluit\, viool\, cello\, hobo\, klarinet\, trompet\, orgel\, klavecimbel\, bandoneon en ook voor koor.  Tevens werd zijn compositie ‘Carrousel’ voor dwarsfluit en piano – geschreven voor Dr. Robbert Dijkgraaf – uitgevoerd op de Bechstein van Albert Einstein te Princeton (USA).  In aanwezigheid van Hare Majesteit Koningin Maxima werd zijn compositie Astor uitgevoerd.  Ter gelegenheid van de inauguratie van de burgemeester van de gemeente Helmond\, werd eveneens een compositie van Pauls’ hand gespeeld. \nDiverse composities van Paul Chatrou werden reeds door de Confédération Musicale de France geselecteerd als verplicht examenwerk in Frankrijk. Paul’s muziek is integraal uitgegeven in diverse landen. \nPaul was enige tijd als muziekdocent werkzaam in het middelbaar onderwijs en was als pianodocent verbonden aan het kunstencentrum van Helmond. Daarnaast geeft hij compositielessen en werkt in opdracht als freelance componist. \n\n\nBestel
URL:https://lambertusconcerten.nl/event/paul-chatrou-65-jaar-tribute/
LOCATION:Bethlehemkerk\, Sperwerstraat 2\, Helmond\, 5702 PJ
CATEGORIES:concerten 24-25
ATTACH;FMTTYPE=image/jpeg:https://lambertusconcerten.nl/wp-content/uploads/2024/06/Paul_Chatrou.jpg
ORGANIZER;CN="Lambertus Concerten":MAILTO:info@lambertusconcerten.nl
END:VEVENT
BEGIN:VEVENT
DTSTART;TZID=Europe/Amsterdam:20241019T200000
DTEND;TZID=Europe/Amsterdam:20241019T210000
DTSTAMP:20260420T103647
CREATED:20240629T220017Z
LAST-MODIFIED:20241028T114157Z
UID:10000031-1729368000-1729371600@lambertusconcerten.nl
SUMMARY:Vocaal Ensemble Marcando - Wereldreis
DESCRIPTION:Er klinkt Engelstalige muziek als Scarbourough Fair\, Negro Spiritual Deep River\, Russische gezangen van Arthur Schnittke en repertoire van Nederlandse\, Duitse\, Spaanse en Franse volksliederen in een hedendaagse uitvoering. Traditionele Koreaanse en Japanse volkszang geven een speciale Oosterse sfeer aan dit internationale concert. \nHet Vocaal Ensemble Marcando is opgericht in 1990 en viert in 2025 zijn 35-jarig bestaan. De 20 leden zijn afkomstig uit de regio Helmond-Nuenen-Eindhoven. Het koor voert klassiek repertoire uit van geestelijke en wereldlijke muziek\, soms in samenwerking met instrumentalisten. De optredens variëren van semi-opera’s (Purcell) tot themaconcerten (Herfst\, Italië\, Vogels\, Passiemuziek\, Maria-muziek\, Wandel-Tuinconcert). Marcando treedt regelmatig op in bekende concertcycli\, zoals ‘Lambertusconcerten Helmond’\, ‘Muziek aan de Markt Bergeijk’ en ‘Stichting Cultuur Overdag Nuenen’. \nDirigent Daan den Hartog \nVanaf augustus 2024 heeft Daan den Hartog het stokje overgenomen van Amin Amel Ebrahimi\, die Marcando drie jaar voortvarend heeft geleid en benoemd is tot componist-repetitor van het fameuze Cappella Amsterdam. \nDaan den Hartog (1998) begon zijn muzikale reis op de basisschool met pianolessen. Aan het eind van de middelbare school stapte hij over op koormuziek en sloot hij zich aan bij het Eindhovens Studenten Muziekgezelschap Quadrivium\, naast zijn studie aan de TU Eindhoven. Als zanger is hij tegenwoordig verbonden aan het Brabantkoor. Daarnaast nam hij twee keer deel aan het jaarlijkse project van het Nederlands Student Kamerkoor o.l.v Béni Csillag. \nBestel hier uw kaarten (via weticket): \n\n\n\nBestel
URL:https://lambertusconcerten.nl/event/vocaal-ensemble-marcando-wereldreis/
LOCATION:Bethlehemkerk\, Sperwerstraat 2\, Helmond\, 5702 PJ
CATEGORIES:concerten 24-25
ATTACH;FMTTYPE=image/jpeg:https://lambertusconcerten.nl/wp-content/uploads/2023/06/cropped-marcando-breed-20221016_150648-scaled-1.jpg
ORGANIZER;CN="Lambertus Concerten":MAILTO:info@lambertusconcerten.nl
END:VEVENT
BEGIN:VEVENT
DTSTART;TZID=Europe/Amsterdam:20240921T150000
DTEND;TZID=Europe/Amsterdam:20240921T163000
DTSTAMP:20260420T103647
CREATED:20240910T115251Z
LAST-MODIFIED:20240916T081511Z
UID:10000048-1726930800-1726936200@lambertusconcerten.nl
SUMMARY:Meezingconcert
DESCRIPTION:DIT CONCERT KAN DOOR OMSTANGDIGHEDEN NIET DOORGAAN! \n21 September is Wereldalzheimerdag. Daarom hebben Lambertus Concerten en het Dementieplatform Helmond de handen ineen geslagen voor een mooie zangmiddag. Want muziek kan zoveel betekenen voordeze doelgroep. En wat is er mooier dan samen muziek te maken? \nDaarom voor iedereen die geniet van muziek en zingen in het bijzonder\, gaan we samen met een aantal steunzangers onder leiding van Maud Broeksteeg gezellig samen zingen. Bekende en minder bekende stukken komen voorbij. \nZangervaring is mooi\, maar niet vereist en iedereen kan en mag meedoen. We hebben ook begeleiding in de vorm van piano en 2 accordeons\, dus het beloofd een feestje te worden! \nNadruk ligt niet op de uitvoering\, maar op het gezellig samen met muziek bezig zijn. Want muziek verbindt! \nOrganisatie is in handen van Lambertus Concerten ism Dementieplatform Helmond en de deelname is kosteloos. Wel graag vooraf aanmelden via meezing@lambertusconcerten.nl onder vermelding van naam en stemtype (indien bekend). Wij gaan voor een geweldig zangfestijn\, jullie ook? \nToegang is helemaal gratis!
URL:https://lambertusconcerten.nl/event/meeingconcert/
LOCATION:Bethlehemkerk\, Sperwerstraat 2\, Helmond\, 5702 PJ
CATEGORIES:concerten 24-25
ATTACH;FMTTYPE=image/jpeg:https://lambertusconcerten.nl/wp-content/uploads/2024/09/A45O1000-kopie.jpeg
END:VEVENT
BEGIN:VEVENT
DTSTART;TZID=Europe/Amsterdam:20240609T150000
DTEND;TZID=Europe/Amsterdam:20240609T160000
DTSTAMP:20260420T103647
CREATED:20230630T220011Z
LAST-MODIFIED:20240608T070404Z
UID:10000024-1717945200-1717948800@lambertusconcerten.nl
SUMMARY:Marion Dumeige/Frans van Tuijl - Een muzikale Frans-Nederlandse verbinding
DESCRIPTION:Let op: dit concert is om 15.00 uur in de Bethlehemkerk! \nEen prachtige stem\, die zich moeiteloos voegt naar allerlei muziekgenres en stijlen\, van barok tot modern; een krachtige persoonlijkheid\, expressief\, met een groot inlevingsvermogen. Kortom: een artiest in hart en nieren. Een uitdagend en veeleisend programma\, waarin de muzikale verbinding tussen het thuisland Frankrijk en het nieuwe thuis Nederland wordt gemaakt. De Franse sopraan Marion Dumeige wordt terecht overladen met complimenten en prijzen voor haar interpretaties en zangkwaliteiten. Na haar opleiding aan de conservatoria van Caen en Rennes studeerde ze af in Amsterdam in 2020 en sindsdien zingt ze als solist in diverse opera’s\, zoals die van Mozart\, Verdi\, Massenet en Offenbach. Maar ook in werken van Vivaldi\, Bach\, Fauré\, Stravinsky en Rheinberger voelt ze zich als een vis in het muzikale water. Dat blijkt ook uit de vele uitstekende reviews en de daaruit voortvloeiende aanbiedingen die ze kreeg. Wat fantastisch dus\, dat het gelukt is haar voor het programma van Lambertus Concerten te contracteren. In dit concert zingt ze\, met pianobegeleiding en piano-intermezzo\, pittige maar prachtige werken van Franse componisten zoals F. Poulenc en J. Massenet\, gecombineerd met E. Grieg en anderen. \nEn dat ze kan schitteren wordt natuurlijk ook mogelijk gemaakt door begeleider Frans van Tuijl op piano\, die zelf soleert met het eerste van de Lyric Pieces op.43 van E. Grieg en het bekende Meditation van J. Massenet. \n \nOnze partner bij dit concert:
URL:https://lambertusconcerten.nl/event/marion-dumeige-guerre-et-reves/
LOCATION:Bethlehemkerk\, Sperwerstraat 2\, Helmond\, 5702 PJ
ATTACH;FMTTYPE=image/jpeg:https://lambertusconcerten.nl/wp-content/uploads/2023/06/Marion-Dumeige-Photo.jpg
ORGANIZER;CN="Lambertus Concerten":MAILTO:info@lambertusconcerten.nl
END:VEVENT
BEGIN:VEVENT
DTSTART;TZID=Europe/Amsterdam:20240518T160000
DTEND;TZID=Europe/Amsterdam:20240518T170000
DTSTAMP:20260420T103647
CREATED:20240319T154211Z
LAST-MODIFIED:20240512T123204Z
UID:10000027-1716048000-1716051600@lambertusconcerten.nl
SUMMARY:Tryout master recital Joep Berkers (piano)
DESCRIPTION:Joep Berkers doet in juni zijn master-examen aan het Fontys Conservatorium Tilburg. Deze middag is een try-out hiervoor. Iedereen is van harte welkom om te komen luisteren naar deze try-out. Toegang is gratis met een vrijwillige collecte na afloop. \nPROGRAMMA\nErwin Dressel – Partita (1965) \n\nPrélude – Allemande\nCanzone\nCourante\nPavane\nGigue\n\nMaurice Ravel – Shéhérazade (1904) \n\nAsie\nLa flûte enchantée\nL’indifférent\n\nJoep Berkers (piano)\, docent muziek aan het van Maerlandtlyceum in Eindhoven\, studeert momenteel voor zijn masterdiploma uitvoerend musicus aan het conservatorium in Tilburg (Fontys Academy of the Arts). Daar combineert hij de verschillende disciplines kunst\, educatie en technologie. Door het gebruik van technologie en educatie onderzoekt hij de uitgebreide mogelijkheden om muziek te communiceren. De laatste jaren richt hij zich op het begeleiden van instrumentalisten en zangers. Op 4 juni 14:30 is zijn master recital\, waarvoor hij deze dag een tryout doet (vrij toegang). \nSaxofoniste Hannah Koob (saxofoon) wordt beschreven als een musicus met een “warm en zingend geluid\, zelfs in de uiterste registers\, het vermogen om lange vocale passages te creëren\, een flexibele klankkleur en een zeer volleerde techniek”. \nAls soliste trad ze op met orkesten als het Symfonieorkest Flevoland\, Alkmaars Symfonieorkest\, het Trajectum Strijkorkest Utrecht en vele anderen. \nHannah Koob was te horen op de Duitse en Nederlandse radio en trad onder andere op tijdens het World Saxophone Congress en de Shostakovich Days in Gohrisch. \nIn 2021 bracht ze haar solodebuutalbum Die Fremde uit en in januari 2024 haar duo-album ORIGINALS. Van dit album hoort u vandaag de partita van Erwin Dressel. \nMarkéta Palová is een Tsjechische sopraan. Ze begon haar carrière als volkszangeres\, waarna ze naar Nederland verhuisde om Klassieke Zang te studeren bij Sinan Vural aan de Academy of Music and Performing Arts in Tilburg. Hier heeft ze haar Bachelor en Master of Music behaald. Markéta wil graag de brede mogelijkheden van zang verkennen en nam daarom tweemaal deel aan de masterclasses van Lorrain Nubar (The Julliard School\, NY) aan de Mozarteum Summer Academy in Salzburg. Tijdens haar studie groeide haar liefde voor de liedkunst en sopraan Elly Ameling en Grammy Award-winnaar bariton Wolfgang Holzmair hielpen haar de liedkunst te begrijpen en te doorgronden. Ze is regelmatig te zien als soliste in oratoriumwerken\, variërend van Barok tot hedendaagse muziek. Zo kon men van haar prachtige stem genieten in onder andere Bach\, Pergolesi\, Vivaldi Telemann\, Mozart\, maar ook Dvořák en Ryba.
URL:https://lambertusconcerten.nl/event/tryout-master-recital-joep-berkers-piano/
LOCATION:Bethlehemkerk\, Sperwerstraat 2\, Helmond\, 5702 PJ
ATTACH;FMTTYPE=image/png:https://lambertusconcerten.nl/wp-content/uploads/2024/03/joep.png
ORGANIZER;CN="Lambertus Concerten":MAILTO:info@lambertusconcerten.nl
END:VEVENT
BEGIN:VEVENT
DTSTART;TZID=Europe/Amsterdam:20240316T150000
DTEND;TZID=Europe/Amsterdam:20240316T160000
DTSTAMP:20260420T103647
CREATED:20230630T220004Z
LAST-MODIFIED:20240308T085321Z
UID:10000018-1710601200-1710604800@lambertusconcerten.nl
SUMMARY:Vergeet niet te Zingen
DESCRIPTION:LET OP: dit concert is op ZATERDAG 16 maart in plaats van zondag 17 maart! \nIndrukwekkend\, ontroerend\, onvergetelijk. Woorden die passen bij dit concert in de Bethlehemkerk in Helmond. Een wel heel bijzonder concert\, in het kader van ‘Muziek is er voor iedereen’\, voor alle rangen en standen\, voor alle geledingen in onze samenleving. Muziek laat je je herinneringen opnieuw beleven; brengt je in beweging; geeft je een geluksgevoel; is meeslepend en voedt je gedachten. Muziek brengt mensen samen en verbindt ze.\nLambertus Concerten zet zich al jaren in om klassieke muziek te verankeren in de maatschappij en doet dat nu samen met het basisonderwijs en de ouderenzorg. Jonge scholieren ven mensen met dementie beleven samen kunst en klassieke muziek. De verbinding zoeken tussen jong en oud\, in muziek en in de kunst in bredere zin. Samen ervaringen opdoen en uitwisselen\, samen kunst maken\, verhalen vertellen en vooral ook samen zingen rond een herkenbaar thema. Het is zo nodig\, zeker in deze tijd: maatschappelijke inclusie en betrokkenheid. Lambertus Concerten staat midden in die samenleving en daarin past bij uitstek het participatieproject\, getiteld ‘Vergeet niet te zingen’. \nMensen met dementie zingen onder begeleiding van ervaren zangers samen klassieke werken. \nMeer informatie over dit project kunt u hier vinden \nDownload hier het programmaboekje \nDit project wordt mede mogelijk gemaakt door: \n   \n 
URL:https://lambertusconcerten.nl/event/vergeet-niet-te-zingen/
LOCATION:Bethlehemkerk\, Sperwerstraat 2\, Helmond\, 5702 PJ
ATTACH;FMTTYPE=image/jpeg:https://lambertusconcerten.nl/wp-content/uploads/2023/06/DSC9009-klein.jpg
ORGANIZER;CN="Lambertus Concerten":MAILTO:info@lambertusconcerten.nl
END:VEVENT
BEGIN:VEVENT
DTSTART;TZID=Europe/Amsterdam:20231216T150000
DTEND;TZID=Europe/Amsterdam:20231216T160000
DTSTAMP:20260420T103647
CREATED:20230630T220020Z
LAST-MODIFIED:20231115T134850Z
UID:10000013-1702738800-1702742400@lambertusconcerten.nl
SUMMARY:Vocaal Ensemble Marcando - kerstconcert
DESCRIPTION:De perfecte opmaat voor het kerstfeest: Vocaal Ensemble Marcando  o.l.v. Amin Amel Ebrahimi presenteert een kleurrijk palet aan advents- en kerstliederen\, van Byrd\, Britten tot Warlock en Wood. Bekende Bachkoralen en geliefde klassieke klanken zoals ‘Twinkle twinkle’ en ‘Ding Dong Merrily on high’ vormen een aangename afwisseling in een internationaal  kerstprogramma. De jonge\, uit Iran afkomstige\, dirigent Amin Amel Ebrahimi\, in  2022 cum laude geslaagd aan het Tilburgs conservatorium\, staat garant voor  een dynamische en boeiende uitvoering\, die de zangers laat stralen en met hen samen het publiek helemaal in kerstsferen brengt. U zorgt voor de boom; VE Marcando voor de versiering! \nKlik hier voor het programmaboekje
URL:https://lambertusconcerten.nl/event/vocaal-ensemble-marcando-kerstconcert/
LOCATION:Bethlehemkerk\, Sperwerstraat 2\, Helmond\, 5702 PJ
ATTACH;FMTTYPE=image/jpeg:https://lambertusconcerten.nl/wp-content/uploads/2023/06/cropped-marcando-breed-20221016_150648-scaled-1.jpg
ORGANIZER;CN="Lambertus Concerten":MAILTO:info@lambertusconcerten.nl
END:VEVENT
BEGIN:VEVENT
DTSTART;TZID=Europe/Amsterdam:20231008T150000
DTEND;TZID=Europe/Amsterdam:20231008T170000
DTSTAMP:20260420T103647
CREATED:20230630T220035Z
LAST-MODIFIED:20230717T110911Z
UID:10000008-1696777200-1696784400@lambertusconcerten.nl
SUMMARY:Helmonds Kamerkoor – Jubileumconcert m.m.v. Laetitia Gerards
DESCRIPTION:Er zit muziek in Helmond! \nLang zullen ze leven in de gloria! Het Helmonds Kamerkoor\, sinds enige jaren o.l.v. Peter-Paul van Beekum\, jubileert! Al 75 jaar is het een van de betere amateurkoren van Noord-Brabant\, dat uitblinkt in koorklank en originele programmering. Hulde dus! Het feestelijk jubileumconcert is onderdeel van een heel weekend rondom Helmondse componisten. Want er zit muziek in Helmond! De HKK’ers zingen zoals altijd de sterren van de hemel in werken van o.a. Lotichius\, Van den Eijnden\, Chatrou\, Van de Kerkhof en koorlid Cor Nooijen. Enkele zijn speciaal voor deze gelegenheid geschreven. Ook andere musici verlenen hun medewerking\, onder wie sopraan Laetitia Gerards\, blaaskwintet Cartouche\, pianisten Gerlies van der Jeugd en Marjola Lishi\, fluitiste Katrien Heerkens en accordeonist Otine van Erp.\nNa afloop bent u welkom om samen het glas te heffen op het platina jubileum. De kosten van drankjes en hapjes zijn inbegrepen bij de kaartprijs! \n 
URL:https://lambertusconcerten.nl/event/helmonds-kamerkoor-jubileumconcert/
LOCATION:Bethlehemkerk\, Sperwerstraat 2\, Helmond\, 5702 PJ
ATTACH;FMTTYPE=image/jpeg:https://lambertusconcerten.nl/wp-content/uploads/2023/06/HKK-2023-klein.jpg
ORGANIZER;CN="Lambertus Concerten":MAILTO:info@lambertusconcerten.nl
END:VEVENT
END:VCALENDAR