BEGIN:VCALENDAR
VERSION:2.0
PRODID:-//Lambertus Concerten - ECPv6.15.12.2//NONSGML v1.0//EN
CALSCALE:GREGORIAN
METHOD:PUBLISH
X-ORIGINAL-URL:https://lambertusconcerten.nl
X-WR-CALDESC:Evenementen voor Lambertus Concerten
REFRESH-INTERVAL;VALUE=DURATION:PT1H
X-Robots-Tag:noindex
X-PUBLISHED-TTL:PT1H
BEGIN:VTIMEZONE
TZID:Europe/Amsterdam
BEGIN:DAYLIGHT
TZOFFSETFROM:+0100
TZOFFSETTO:+0200
TZNAME:CEST
DTSTART:20230326T010000
END:DAYLIGHT
BEGIN:STANDARD
TZOFFSETFROM:+0200
TZOFFSETTO:+0100
TZNAME:CET
DTSTART:20231029T010000
END:STANDARD
BEGIN:DAYLIGHT
TZOFFSETFROM:+0100
TZOFFSETTO:+0200
TZNAME:CEST
DTSTART:20240331T010000
END:DAYLIGHT
BEGIN:STANDARD
TZOFFSETFROM:+0200
TZOFFSETTO:+0100
TZNAME:CET
DTSTART:20241027T010000
END:STANDARD
BEGIN:DAYLIGHT
TZOFFSETFROM:+0100
TZOFFSETTO:+0200
TZNAME:CEST
DTSTART:20250330T010000
END:DAYLIGHT
BEGIN:STANDARD
TZOFFSETFROM:+0200
TZOFFSETTO:+0100
TZNAME:CET
DTSTART:20251026T010000
END:STANDARD
BEGIN:DAYLIGHT
TZOFFSETFROM:+0100
TZOFFSETTO:+0200
TZNAME:CEST
DTSTART:20260329T010000
END:DAYLIGHT
BEGIN:STANDARD
TZOFFSETFROM:+0200
TZOFFSETTO:+0100
TZNAME:CET
DTSTART:20261025T010000
END:STANDARD
BEGIN:DAYLIGHT
TZOFFSETFROM:+0100
TZOFFSETTO:+0200
TZNAME:CEST
DTSTART:20270328T010000
END:DAYLIGHT
BEGIN:STANDARD
TZOFFSETFROM:+0200
TZOFFSETTO:+0100
TZNAME:CET
DTSTART:20271031T010000
END:STANDARD
END:VTIMEZONE
BEGIN:VEVENT
DTSTART;TZID=Europe/Amsterdam:20260308T143000
DTEND;TZID=Europe/Amsterdam:20260308T153000
DTSTAMP:20260425T233013
CREATED:20251009T173348Z
LAST-MODIFIED:20251009T173348Z
UID:10000089-1772980200-1772983800@lambertusconcerten.nl
SUMMARY:Sandra van Loon (zang) en Juliette Vermaes (piano)
DESCRIPTION:Sopraan Sandra van Loon begon in 1999 haar zangstudie aan de Hogeschool voor de Kunsten Utrecht. Zij zong als freelance koorzanger in diverse producties bij De Nederlandse Opera. Naast haar uitvoerende werk als klassiek zangeres is Sandra met veel plezier werkzaam als zelfstandig zangpedagoge in Tilburg. Tevens is zij verbonden aan het Kunstkwartier in Helmond\, Geldrop en Nuenen. \nJuliette Vermaes werkt als pianodocent bij Kunstkwartier. Daarnaast is zij actief als begeleidster van diverse zangers en koren. \nToegang gratis
URL:https://lambertusconcerten.nl/event/sandra-van-loon-zang-en-juliette-vermaes-piano-4/
LOCATION:Savant Rivierenhof\, Hof Bruheze 16\, Helmond\, 5704 NP\, Nederland
CATEGORIES:Locatieconcerten 25-26
ATTACH;FMTTYPE=image/jpeg:https://lambertusconcerten.nl/wp-content/uploads/2024/10/JV-SL.jpg
ORGANIZER;CN="Lambertus Concerten":MAILTO:info@lambertusconcerten.nl
END:VEVENT
BEGIN:VEVENT
DTSTART;TZID=Europe/Amsterdam:20251130T143000
DTEND;TZID=Europe/Amsterdam:20251130T153000
DTSTAMP:20260425T233013
CREATED:20250917T112502Z
LAST-MODIFIED:20251001T074321Z
UID:10000084-1764513000-1764516600@lambertusconcerten.nl
SUMMARY:HOOR (Het Overdag Orkest)
DESCRIPTION:HOOR maakt iedere nieuwe week lekker samen muziek in de Weeffabriek in Geldrop. Met 11 bevlogen muzikanten spelen zij zowel serieuze als ‘vrolijke noten’. Dus vele stijlen en voor ieder wat wils! \nToegang gratis
URL:https://lambertusconcerten.nl/event/hoor-het-overdag-orkest-2/
LOCATION:Savant Rivierenhof\, Hof Bruheze 16\, Helmond\, 5704 NP\, Nederland
CATEGORIES:Locatieconcerten 25-26
ATTACH;FMTTYPE=image/jpeg:https://lambertusconcerten.nl/wp-content/uploads/2024/10/hoor.jpg
ORGANIZER;CN="Lambertus Concerten":MAILTO:info@lambertusconcerten.nl
END:VEVENT
BEGIN:VEVENT
DTSTART;TZID=Europe/Amsterdam:20250330T143000
DTEND;TZID=Europe/Amsterdam:20250330T153000
DTSTAMP:20260425T233013
CREATED:20241007T111718Z
LAST-MODIFIED:20250324T085755Z
UID:10000055-1743345000-1743348600@lambertusconcerten.nl
SUMMARY:Strijkersensembles Kunstkwartier
DESCRIPTION:Twee strijkersensemble van Kunstkwartier treden op tijdens dit concert. \nEnsemble 2 van Kunstkwartier is een strijkensemble bestaand uit 14 leerlingen in de leeftijd van 11 tot 17 jaar.\nElke vrijdagmiddag repeteren ze samen en leren zo de kneepjes van het samenspel. Daarnaast komen deze jongeren ook nog wekelijks voor hun eigen les naar Kunstkwartier. Ze zullen tijdens dit concert 10 korte stukken in allerlei stijlen laten horen\, van barokmuziek tot heden.\nHet ensemble staat onder leiding van Yvonne Franssen \nHet Kunstkwartier Cello Ensemble bestaat uit 15 volwassen celloleerlingen\, beginners en gevorderden\, die 1 x per 3 weken samen repeteren. Tijdens de repetities gaat het om het leren samenspelen\, naar elkaar luisteren en plezier hebben in het samen muziek maken. Zij spelen deze middag een programma met o.a. enkele licht klassieke film melodieën.\nDit ensemble staat onder leiding van Marjan van de Randeraat. \nToegang gratis
URL:https://lambertusconcerten.nl/event/strijkersensembles-kunstkwartier/
LOCATION:Savant Rivierenhof\, Hof Bruheze 16\, Helmond\, 5704 NP\, Nederland
CATEGORIES:Locatieconcerten 24-25
ATTACH;FMTTYPE=image/jpeg:https://lambertusconcerten.nl/wp-content/uploads/2024/10/ensemble_1.width-1440.jpg
ORGANIZER;CN="Lambertus Concerten":MAILTO:info@lambertusconcerten.nl
END:VEVENT
BEGIN:VEVENT
DTSTART;TZID=Europe/Amsterdam:20250202T143000
DTEND;TZID=Europe/Amsterdam:20250202T153000
DTSTAMP:20260425T233013
CREATED:20241007T111438Z
LAST-MODIFIED:20241007T111438Z
UID:10000054-1738506600-1738510200@lambertusconcerten.nl
SUMMARY:Carina Vervuurt\, accordeon
DESCRIPTION:Carina Vervuurt  is geboren en getogen in Eindhoven\, maar woont inmiddels al meer dan 30 jaar in Limburg\, in het smalste stukje van Nederland.\nZe geeft accordeonles op Kunstkwartier in Geldrop en Helmond en verder is ze vaak op basisscholen waar ze muziekprojecten geeft.\n\nEen programma van Franse chansons van o.a Edith Piaf en bekende oudhollandse liedjes waarbij iedereen gerust mag meezingen!\n\nToegang gratis
URL:https://lambertusconcerten.nl/event/carina-vervuurt-accordeon/
LOCATION:Savant Rivierenhof\, Hof Bruheze 16\, Helmond\, 5704 NP\, Nederland
CATEGORIES:Locatieconcerten 24-25
ATTACH;FMTTYPE=image/png:https://lambertusconcerten.nl/wp-content/uploads/2024/10/carina_vervuurt.original.png
ORGANIZER;CN="Lambertus Concerten":MAILTO:info@lambertusconcerten.nl
END:VEVENT
BEGIN:VEVENT
DTSTART;TZID=Europe/Amsterdam:20241215T103000
DTEND;TZID=Europe/Amsterdam:20241215T113000
DTSTAMP:20260425T233013
CREATED:20241007T110910Z
LAST-MODIFIED:20241008T091955Z
UID:10000052-1734258600-1734262200@lambertusconcerten.nl
SUMMARY:Kerstconcert
DESCRIPTION:Een sfeervol concert met bekende en minder bekende kerstmelodiën\, gebracht door Ensemble 1685\, blokfluitensemble Kunstkwartier en Juliette Vermaes op piano. \nToegang gratis
URL:https://lambertusconcerten.nl/event/kerstconcert/
LOCATION:Savant Rivierenhof\, Hof Bruheze 16\, Helmond\, 5704 NP\, Nederland
CATEGORIES:Locatieconcerten 24-25
ATTACH;FMTTYPE=image/png:https://lambertusconcerten.nl/wp-content/uploads/2024/10/kerst.png
ORGANIZER;CN="Lambertus Concerten":MAILTO:info@lambertusconcerten.nl
END:VEVENT
BEGIN:VEVENT
DTSTART;TZID=Europe/Amsterdam:20241110T143000
DTEND;TZID=Europe/Amsterdam:20241110T153000
DTSTAMP:20260425T233013
CREATED:20241007T102523Z
LAST-MODIFIED:20241008T074802Z
UID:10000050-1731249000-1731252600@lambertusconcerten.nl
SUMMARY:Ruud Vonken\, gitaar
DESCRIPTION:Ruud Vonken is een ervaren en veelzijdige gitaardocent met een diepe liefde voor muziek. Hij studeerde aan het Maastrichts Conservatorium bij Guus Dresens en Kees Dirks en rondde in 1992 zijn studie af aan het Brabants Conservatorium bij Hein Sanderink. Met meer dan 25 jaar ervaring weet hij als geen ander hoe hij leerlingen kan helpen groeien\, ongeacht hun niveau. \nRuud heeft zich voortdurend verder ontwikkeld\, onder andere door masterclasses te volgen bij grootheden zoals David Russell en jazzlessen bij Willem Kühne. Hij liep stage bij de bekende gitarist Cees Hartog\, en sindsdien speelt hij in verschillende samenstellingen\, van klassiek tot lichte muziek. \nNaast zijn werk als gitaardocent bij Kunstkwartier Helmond\, runt Ruud zijn eigen succesvolle gitaarschool. Hij componeert zijn eigen muziek en heeft veel studio-opnames op zijn naam staan. Deze brede ervaring neemt hij mee in elke les\, zodat jij niet alleen leert spelen\, maar ook de wereld van muziek in zijn volle breedte ontdekt. \nToegang gratis
URL:https://lambertusconcerten.nl/event/ruud-vonken-gitaar/
LOCATION:Savant Rivierenhof\, Hof Bruheze 16\, Helmond\, 5704 NP\, Nederland
CATEGORIES:Locatieconcerten 24-25
ATTACH;FMTTYPE=image/jpeg:https://lambertusconcerten.nl/wp-content/uploads/2024/10/WhatsApp-Image-2024-10-07-at-20.58.36.jpeg
ORGANIZER;CN="Lambertus Concerten":MAILTO:info@lambertusconcerten.nl
END:VEVENT
END:VCALENDAR