BEGIN:VCALENDAR
VERSION:2.0
PRODID:-//Lambertus Concerten - ECPv6.15.12.2//NONSGML v1.0//EN
CALSCALE:GREGORIAN
METHOD:PUBLISH
X-WR-CALNAME:Lambertus Concerten
X-ORIGINAL-URL:https://lambertusconcerten.nl
X-WR-CALDESC:Evenementen voor Lambertus Concerten
REFRESH-INTERVAL;VALUE=DURATION:PT1H
X-Robots-Tag:noindex
X-PUBLISHED-TTL:PT1H
BEGIN:VTIMEZONE
TZID:Europe/Amsterdam
BEGIN:DAYLIGHT
TZOFFSETFROM:+0100
TZOFFSETTO:+0200
TZNAME:CEST
DTSTART:20240331T010000
END:DAYLIGHT
BEGIN:STANDARD
TZOFFSETFROM:+0200
TZOFFSETTO:+0100
TZNAME:CET
DTSTART:20241027T010000
END:STANDARD
BEGIN:DAYLIGHT
TZOFFSETFROM:+0100
TZOFFSETTO:+0200
TZNAME:CEST
DTSTART:20250330T010000
END:DAYLIGHT
BEGIN:STANDARD
TZOFFSETFROM:+0200
TZOFFSETTO:+0100
TZNAME:CET
DTSTART:20251026T010000
END:STANDARD
BEGIN:DAYLIGHT
TZOFFSETFROM:+0100
TZOFFSETTO:+0200
TZNAME:CEST
DTSTART:20260329T010000
END:DAYLIGHT
BEGIN:STANDARD
TZOFFSETFROM:+0200
TZOFFSETTO:+0100
TZNAME:CET
DTSTART:20261025T010000
END:STANDARD
END:VTIMEZONE
BEGIN:VEVENT
DTSTART;TZID=Europe/Amsterdam:20250613T200000
DTEND;TZID=Europe/Amsterdam:20250613T220000
DTSTAMP:20260423T121549
CREATED:20241205T152458Z
LAST-MODIFIED:20250514T081026Z
UID:10000061-1749844800-1749852000@lambertusconcerten.nl
SUMMARY:Afscheidsconcert Vocaal Ensemble Marcando
DESCRIPTION:Slotconcert van Marcando? Het zal voor velen als een verrassing klinken. En toch wordt dit hun allerlaatste concert. Het koor heeft besloten om na 35 jaar zangplezier te stoppen. Ze zijn nog op volle sterkte\, met 20 goede stemmen en een geweldige dirigent\, Daan den Hartog. Maar je kunt -als de jaren gaan tellen- het beste eindigen als het nog goed gaat. Marcando ontstond in 1990 uit een samengaan van het Nuenens Kamerkoor (vanaf 1975) en het Helmondse Round Ensemble. Dat is ook de reden dat we graag in beide plaatsen -met onze trouwe bezoekers- deze lange zangperiode gaan afsluiten. \nVoor onze slotconcerten hebben de huidige leden van Marcando hun voorkeursliederen gekozen uit het uitgebreide repertoire. Bovendien staan ook composities van enkele van onze Nuenense en Helmondse oud-koordirigenten op het programma\, Martien van Woerkum\, Gerard van de Pas (†) en Theo van de Kerkhof. Pianist-zanger-componist Rob Cornelissen zorgt voor enkele muzikale intermezzi. \nHet concert is met een nazit en een drankje. \nHet Vocaal Ensemble Marcando is opgericht in 1990 en bestaat in 2025 dus 35 jaar. De 20 leden zijn afkomstig uit de regio Helmond-Nuenen-Eindhoven. Het koor voerde klassiek repertoire uit van geestelijke en wereldlijke muziek\, soms in samenwerking met instrumentalisten. De optredens variëren van semi-opera’s (Purcell) tot themaconcerten (Herfst\, Italië\, Vogels\, Passiemuziek\, Maria-muziek\, Wandel-Tuinconcert). Marcando treedt regelmatig op in bekende concertcycli\, zoals ‘Lambertus Concerten Helmond’\, ‘Muziek aan de Markt Bergeijk’ en ‘Stichting Cultuur Overdag Nuenen’. \nDirigent Daan den Hartog \nVanaf augustus 2024 heeft Daan den Hartog het stokje overgenomen van Amin Amel Ebrahimi\, die Marcando drie jaar voortvarend heeft geleid en benoemd is tot componist-repetitor van het fameuze Cappella Amsterdam. \nDaan den Hartog (1998) begon zijn muzikale reis op de basisschool met pianolessen. Aan het eind van de middelbare school stapte hij over op koormuziek en sloot hij zich aan bij het Eindhovens Studenten Muziekgezelschap Quadrivium\, naast zijn studie aan de TU Eindhoven. Als zanger is hij tegenwoordig verbonden aan het Brabantkoor. Daarnaast nam hij twee keer deel aan het jaarlijkse project van het Nederlands Student Kamerkoor o.l.v Béni Csillag. \nBestel hier uw kaarten (via weticket): \n\n\n\nBestel\n\n\n\n 
URL:https://lambertusconcerten.nl/event/afscheidsconcert-vocaal-ensemble-marcando/
LOCATION:Theo Driessen Instituut\, Willem Prinzenstraat 43\, Helmond\, 5701 BC
CATEGORIES:concerten 24-25
ATTACH;FMTTYPE=image/jpeg:https://lambertusconcerten.nl/wp-content/uploads/2023/06/cropped-marcando-breed-20221016_150648-scaled-1.jpg
ORGANIZER;CN="Lambertus Concerten":MAILTO:info@lambertusconcerten.nl
END:VEVENT
END:VCALENDAR