BEGIN:VCALENDAR
VERSION:2.0
PRODID:-//Lambertus Concerten - ECPv6.15.12.2//NONSGML v1.0//EN
CALSCALE:GREGORIAN
METHOD:PUBLISH
X-ORIGINAL-URL:https://lambertusconcerten.nl
X-WR-CALDESC:Evenementen voor Lambertus Concerten
REFRESH-INTERVAL;VALUE=DURATION:PT1H
X-Robots-Tag:noindex
X-PUBLISHED-TTL:PT1H
BEGIN:VTIMEZONE
TZID:Europe/Amsterdam
BEGIN:DAYLIGHT
TZOFFSETFROM:+0100
TZOFFSETTO:+0200
TZNAME:CEST
DTSTART:20220327T010000
END:DAYLIGHT
BEGIN:STANDARD
TZOFFSETFROM:+0200
TZOFFSETTO:+0100
TZNAME:CET
DTSTART:20221030T010000
END:STANDARD
BEGIN:DAYLIGHT
TZOFFSETFROM:+0100
TZOFFSETTO:+0200
TZNAME:CEST
DTSTART:20230326T010000
END:DAYLIGHT
BEGIN:STANDARD
TZOFFSETFROM:+0200
TZOFFSETTO:+0100
TZNAME:CET
DTSTART:20231029T010000
END:STANDARD
BEGIN:DAYLIGHT
TZOFFSETFROM:+0100
TZOFFSETTO:+0200
TZNAME:CEST
DTSTART:20240331T010000
END:DAYLIGHT
BEGIN:STANDARD
TZOFFSETFROM:+0200
TZOFFSETTO:+0100
TZNAME:CET
DTSTART:20241027T010000
END:STANDARD
END:VTIMEZONE
BEGIN:VEVENT
DTSTART;TZID=Europe/Amsterdam:20230520T200000
DTEND;TZID=Europe/Amsterdam:20230520T211500
DTSTAMP:20260422T145112
CREATED:20230323T135839Z
LAST-MODIFIED:20230411T175912Z
UID:10000003-1684612800-1684617300@lambertusconcerten.nl
SUMMARY:Holland Baroque/Julie Roset
DESCRIPTION:Twee eeuwen Franse zangkunst \nIn het achttiende-eeuwse Parijs was het even een heftig twistpunt: wie konden er beter zingen\, de Italianen of de Fransen? Het werd natuurlijk een gelijkspel\, want de Franse zangkunst doet in niets onder voor het belcanto van de Italianen. \nHolland Baroque overbrugt samen met sopraan Julie Roset twee eeuwen Franse vocale schoonheid. \nJulie Roset is een van de jongste en meest fonkelende sterren aan de internationale zangershemel. Zij sleepte diverse prijzen in de wacht en heeft nu al een indrukwekkend aantal operarollen bij prestigieuze theaters op haar palmares. Met Holland Baroque schittert ze op het album Brabant 1653. \n \nCentraal in dit concert staat Jean-Philippe Rameau\, de weergaloze opera-hervormer die de Franse opera-aria nieuw leven inblies. Bovendien legde hij met zijn gedurfde orkestpalet een directe lijn naar de romantiek. Zo schuiven Gabriel Fauré en Léo Delibes in dit programma als vanzelfsprekend bij hun barokke collega’s aan. Daarnaast klinkt ook muziek van Rameau’s geniale voorgangers Lully en Charpentier. Alles in de allerminst conventionele bewerkingen van Judith en Tineke Steenbrink. \nDit concert is mede mogelijk gemaakt door het Fonds Podiumkunsten.
URL:https://lambertusconcerten.nl/event/holland-baroque-julie-roset/
LOCATION:Trudokerk\, Dorpsstraat 34\, Helmond
CATEGORIES:concerten22-23
ATTACH;FMTTYPE=image/jpeg:https://lambertusconcerten.nl/wp-content/uploads/2023/03/210606_pv_julieroset_liggend-kopie.jpeg
END:VEVENT
BEGIN:VEVENT
DTSTART;TZID=Europe/Amsterdam:20230329T201500
DTEND;TZID=Europe/Amsterdam:20230329T213000
DTSTAMP:20260422T145112
CREATED:20230322T100508Z
LAST-MODIFIED:20230323T134145Z
UID:10000001-1680120900-1680125400@lambertusconcerten.nl
SUMMARY:Holland Baroque: Tranen van Brabant
DESCRIPTION:Holland Baroque presenteert samen met vijf vrouwelijke solisten de muzikale tradities van het 17de-eeuwse kloosterleven in Noord-Brabant. In dit programma hoort u een vrouwenkoor met passiemuziek zoals die in de kloosters geklonken heeft. Muziek tussen Aswoensdag en Pasen\, veertig dagen met litanieën\, Stabat Mater\, barok\, gregoriaans en andere werken van Benedictus à Sancto Josepho\, Herman Hollanders en Carl Rosier. \n\n\n\nIn het Nederland van de 17de-eeuw trokken de protestanten aan het langste eind. De openbare katholieke eredienst werd vanaf 1648 verboden. Vooral in Brabant kwam dat hard aan. De katholieken trokken zich terug in schuurkerken en in door de protestanten gedoogde katholieke enclaves rond Gemert en Boxmeer. Benedictus Buns\, Jan Baptist Verrijt en Carl Rosier schreven juist voor dit verborgen leven hun mooiste werken. Laat je verrassen door deze muziek uit het ‘Rome van Brabant’. \nSolisten: Hannah Morrison\, Camille Allérat\, Lucretia Starke\, Laura Lopes en Ludmila Schwartzwalder \nDit concert is een samenwerking met Theater Speelhuis\, kaartverkoop via de site van Theater Speelhuis \nTIP: op 20 mei komt Holland Baroque nogmaals naar Helmond met een prachtig programma. Bestel nu al uw kaarten voor dit 2e concert!
URL:https://lambertusconcerten.nl/event/holland-baroque-tranen-van-brabant/
LOCATION:Trudokerk\, Dorpsstraat 34\, Helmond
CATEGORIES:concerten22-23
ATTACH;FMTTYPE=image/webp:https://lambertusconcerten.nl/wp-content/uploads/2023/03/110610_8111-2_v6_staand_dicht-1280x1920-1-e1675936079611.jpg-e1679590130783.webp
END:VEVENT
END:VCALENDAR